Package: markeR Version: 1.0.0 Command: /home/biocbuild/bbs-3.22-bioc/R/bin/R CMD build --keep-empty-dirs --no-resave-data --md5 markeR StartedAt: 2025-11-10 18:32:24 -0500 (Mon, 10 Nov 2025) EndedAt: 2025-11-10 18:36:35 -0500 (Mon, 10 Nov 2025) EllapsedTime: 251.2 seconds RetCode: 0 Status: OK PackageFile: markeR_1.0.0.tar.gz PackageFileSize: 3.814 MiB