Package: mariner Version: 1.8.1 Command: E:\biocbuild\bbs-3.21-bioc\R\bin\R.exe CMD INSTALL mariner StartedAt: 2025-08-14 16:39:29 -0400 (Thu, 14 Aug 2025) EndedAt: 2025-08-14 16:40:51 -0400 (Thu, 14 Aug 2025) EllapsedTime: 82.3 seconds RetCode: 0 Status: OK