Package: makecdfenv Version: 1.82.0 Command: /home/biocbuild/R/R/bin/R CMD INSTALL makecdfenv StartedAt: 2025-01-30 20:09:04 -0000 (Thu, 30 Jan 2025) EndedAt: 2025-01-30 20:09:34 -0000 (Thu, 30 Jan 2025) EllapsedTime: 30.4 seconds RetCode: 0 Status: OK