Package: magpie Version: 1.6.0 Command: /home/biocbuild/R/R/bin/R CMD INSTALL magpie StartedAt: 2025-02-03 21:19:31 -0000 (Mon, 03 Feb 2025) EndedAt: 2025-02-03 21:20:20 -0000 (Mon, 03 Feb 2025) EllapsedTime: 49.4 seconds RetCode: 0 Status: OK