Package: magpie Version: 1.6.0 Command: /home/biocbuild/R/R/bin/R CMD check --install=check:magpie.install-out.txt --library=/home/biocbuild/R/R/site-library --no-vignettes --timings magpie_1.6.0.tar.gz StartedAt: 2025-01-31 07:42:07 -0000 (Fri, 31 Jan 2025) EndedAt: 2025-01-31 07:47:18 -0000 (Fri, 31 Jan 2025) EllapsedTime: 310.4 seconds RetCode: 0 Status: WARNINGS CheckDir: magpie.Rcheck Warnings: 1