Package: magpie Version: 1.6.0 Command: /home/biocbuild/R/R/bin/R CMD build --keep-empty-dirs --no-resave-data magpie StartedAt: 2025-01-31 00:36:45 -0000 (Fri, 31 Jan 2025) EndedAt: 2025-01-31 00:37:57 -0000 (Fri, 31 Jan 2025) EllapsedTime: 72.0 seconds RetCode: 0 Status: OK PackageFile: magpie_1.6.0.tar.gz PackageFileSize: 1.693 MiB