Package: magpie Version: 1.6.0 Command: chmod a+r magpie -R && F:\biocbuild\bbs-3.20-bioc\R\bin\R.exe CMD build --keep-empty-dirs --no-resave-data magpie StartedAt: 2025-01-30 19:51:57 -0500 (Thu, 30 Jan 2025) EndedAt: 2025-01-30 19:53:18 -0500 (Thu, 30 Jan 2025) EllapsedTime: 81.2 seconds RetCode: 0 Status: OK PackageFile: magpie_1.6.0.tar.gz PackageFileSize: 1.539 MiB