Package: magpie Version: 1.6.0 Command: rm -rf magpie.buildbin-libdir && mkdir magpie.buildbin-libdir && F:\biocbuild\bbs-3.20-bioc\R\bin\R.exe CMD INSTALL --build --library=magpie.buildbin-libdir magpie_1.6.0.tar.gz StartedAt: 2025-01-31 08:58:03 -0500 (Fri, 31 Jan 2025) EndedAt: 2025-01-31 08:59:02 -0500 (Fri, 31 Jan 2025) EllapsedTime: 58.1 seconds RetCode: 0 Status: OK PackageFile: magpie_1.6.0.zip PackageFileSize: 1.364 MiB