Package: magpie Version: 1.6.0 Command: /home/biocbuild/bbs-3.20-bioc/R/bin/R CMD INSTALL magpie StartedAt: 2025-01-30 15:57:46 -0500 (Thu, 30 Jan 2025) EndedAt: 2025-01-30 15:58:26 -0500 (Thu, 30 Jan 2025) EllapsedTime: 40.1 seconds RetCode: 0 Status: OK