Package: magpie Version: 1.6.0 Command: /home/biocbuild/bbs-3.20-bioc/R/bin/R CMD check --install=check:magpie.install-out.txt --library=/home/biocbuild/bbs-3.20-bioc/R/site-library --timings magpie_1.6.0.tar.gz StartedAt: 2025-01-30 23:33:31 -0500 (Thu, 30 Jan 2025) EndedAt: 2025-01-30 23:38:02 -0500 (Thu, 30 Jan 2025) EllapsedTime: 270.3 seconds RetCode: 0 Status: WARNINGS CheckDir: magpie.Rcheck Warnings: 1