Package: magpie Version: 1.6.0 Command: rm -rf magpie.buildbin-libdir && mkdir magpie.buildbin-libdir && /Users/biocbuild/BBS/utils/build-universal.sh magpie_1.6.0.tar.gz /Library/Frameworks/R.framework/Resources/bin/R magpie.buildbin-libdir StartedAt: 2025-02-04 13:19:00 -0500 (Tue, 04 Feb 2025) EndedAt: 2025-02-04 13:21:17 -0500 (Tue, 04 Feb 2025) EllapsedTime: 137.0 seconds RetCode: 0 Status: OK PackageFile: magpie_1.6.0.tgz PackageFileSize: 2.113 MiB