Package: magpie Version: 1.6.0 Command: /Library/Frameworks/R.framework/Resources/bin/R CMD build --keep-empty-dirs --no-resave-data magpie StartedAt: 2025-01-31 02:26:29 -0500 (Fri, 31 Jan 2025) EndedAt: 2025-01-31 02:27:43 -0500 (Fri, 31 Jan 2025) EllapsedTime: 74.2 seconds RetCode: 0 Status: OK PackageFile: magpie_1.6.0.tar.gz PackageFileSize: 2.289 MiB