Package: maftools Version: 2.24.0 Maintainer: Anand Mayakonda MaintainerEmail: anand_mt at hotmail.com git_url: https://git.bioconductor.org/packages/maftools git_branch: RELEASE_3_21 git_last_commit: e3a5f17 git_last_commit_date: 2025-04-15 11:03:37 -0400 (Tue, 15 Apr 2025)