Package: made4 Version: 1.80.0 Command: /home/biocbuild/R/R/bin/R CMD check --install=check:made4.install-out.txt --library=/home/biocbuild/R/R/site-library --no-vignettes --timings made4_1.80.0.tar.gz StartedAt: 2025-01-31 07:41:56 -0000 (Fri, 31 Jan 2025) EndedAt: 2025-01-31 07:44:54 -0000 (Fri, 31 Jan 2025) EllapsedTime: 177.3 seconds RetCode: 0 Status: OK CheckDir: made4.Rcheck Warnings: 0