Package: made4 Version: 1.82.0 Command: chmod a+r made4 -R && E:\biocbuild\bbs-3.21-bioc\R\bin\R.exe CMD build --keep-empty-dirs --no-resave-data made4 StartedAt: 2025-08-14 20:06:25 -0400 (Thu, 14 Aug 2025) EndedAt: 2025-08-14 20:07:45 -0400 (Thu, 14 Aug 2025) EllapsedTime: 79.6 seconds RetCode: 0 Status: OK PackageFile: made4_1.82.0.tar.gz PackageFileSize: 1.623 MiB