Package: maaslin3 Version: 1.2.0 Command: /home/biocbuild/bbs-3.22-bioc/R/bin/R CMD INSTALL maaslin3 StartedAt: 2025-11-09 15:30:07 -0500 (Sun, 09 Nov 2025) EndedAt: 2025-11-09 15:30:40 -0500 (Sun, 09 Nov 2025) EllapsedTime: 33.4 seconds RetCode: 0 Status: OK