Package: maaslin3 Version: 1.2.0 Command: /home/biocbuild/bbs-3.22-bioc/R/bin/R CMD build --keep-empty-dirs --no-resave-data --md5 maaslin3 StartedAt: 2025-11-09 18:29:00 -0500 (Sun, 09 Nov 2025) EndedAt: 2025-11-09 18:38:15 -0500 (Sun, 09 Nov 2025) EllapsedTime: 555.5 seconds RetCode: 0 Status: OK PackageFile: maaslin3_1.2.0.tar.gz PackageFileSize: 1.089 MiB