Package: maSigPro Version: 1.80.0 Command: chmod a+r maSigPro -R && E:\biocbuild\bbs-3.21-bioc\R\bin\R.exe CMD build --keep-empty-dirs --no-resave-data maSigPro StartedAt: 2025-08-14 20:09:57 -0400 (Thu, 14 Aug 2025) EndedAt: 2025-08-14 20:10:17 -0400 (Thu, 14 Aug 2025) EllapsedTime: 20.0 seconds RetCode: 0 Status: OK PackageFile: maSigPro_1.80.0.tar.gz PackageFileSize: 1.437 MiB