Package: maSigPro Version: 1.80.0 Command: /home/biocbuild/bbs-3.21-bioc/R/bin/R CMD build --keep-empty-dirs --no-resave-data maSigPro StartedAt: 2025-09-21 18:18:49 -0400 (Sun, 21 Sep 2025) EndedAt: 2025-09-21 18:18:56 -0400 (Sun, 21 Sep 2025) EllapsedTime: 7.0 seconds RetCode: 0 Status: OK PackageFile: maSigPro_1.80.0.tar.gz PackageFileSize: 1.511 MiB