Package: maPredictDSC Version: 1.46.0 Command: /Library/Frameworks/R.framework/Resources/bin/R CMD build --keep-empty-dirs --no-resave-data maPredictDSC StartedAt: 2025-05-15 20:14:58 -0400 (Thu, 15 May 2025) EndedAt: 2025-05-15 20:17:54 -0400 (Thu, 15 May 2025) EllapsedTime: 176.0 seconds RetCode: 0 Status: OK PackageFile: maPredictDSC_1.46.0.tar.gz PackageFileSize: 196.7 KiB