Package: maPredictDSC Version: 1.46.0 Command: rm -rf maPredictDSC.buildbin-libdir && mkdir maPredictDSC.buildbin-libdir && /Users/biocbuild/BBS/utils/build-universal.sh maPredictDSC_1.46.0.tar.gz /Library/Frameworks/R.framework/Resources/bin/R maPredictDSC.buildbin-libdir StartedAt: 2025-05-16 12:57:17 -0400 (Fri, 16 May 2025) EndedAt: 2025-05-16 12:58:10 -0400 (Fri, 16 May 2025) EllapsedTime: 53.1 seconds RetCode: 0 Status: OK PackageFile: maPredictDSC_1.46.0.tgz PackageFileSize: 228.1 KiB