Package: maCorrPlot Version: 1.76.0 Command: /Library/Frameworks/R.framework/Resources/bin/R CMD INSTALL maCorrPlot StartedAt: 2025-01-30 15:07:04 -0500 (Thu, 30 Jan 2025) EndedAt: 2025-01-30 15:07:11 -0500 (Thu, 30 Jan 2025) EllapsedTime: 7.6 seconds RetCode: 0 Status: OK