Package: maCorrPlot Version: 1.78.0 Command: /Library/Frameworks/R.framework/Resources/bin/R CMD build --keep-empty-dirs --no-resave-data maCorrPlot StartedAt: 2025-05-16 02:39:27 -0400 (Fri, 16 May 2025) EndedAt: 2025-05-16 02:39:38 -0400 (Fri, 16 May 2025) EllapsedTime: 10.4 seconds RetCode: 0 Status: OK PackageFile: maCorrPlot_1.78.0.tar.gz PackageFileSize: 1.264 MiB