Package: maCorrPlot Version: 1.78.0 Command: rm -rf maCorrPlot.buildbin-libdir && mkdir maCorrPlot.buildbin-libdir && /Users/biocbuild/BBS/utils/build-universal.sh maCorrPlot_1.78.0.tar.gz /Library/Frameworks/R.framework/Resources/bin/R maCorrPlot.buildbin-libdir StartedAt: 2025-05-17 16:02:50 -0400 (Sat, 17 May 2025) EndedAt: 2025-05-17 16:02:53 -0400 (Sat, 17 May 2025) EllapsedTime: 3.4 seconds RetCode: 0 Status: OK PackageFile: maCorrPlot_1.78.0.tgz PackageFileSize: 1.168 MiB