Package: lute Version: 1.4.0 Command: /Library/Frameworks/R.framework/Resources/bin/R CMD check --install=check:lute.install-out.txt --library=/Library/Frameworks/R.framework/Resources/library --no-vignettes --timings lute_1.4.0.tar.gz StartedAt: 2025-05-02 05:21:14 -0400 (Fri, 02 May 2025) EndedAt: 2025-05-02 05:28:21 -0400 (Fri, 02 May 2025) EllapsedTime: 427.0 seconds RetCode: 0 Status: OK CheckDir: lute.Rcheck Warnings: 0