Package: lute Version: 1.4.0 Command: rm -rf lute.buildbin-libdir && mkdir lute.buildbin-libdir && /Users/biocbuild/BBS/utils/build-universal.sh lute_1.4.0.tar.gz /Library/Frameworks/R.framework/Resources/bin/R lute.buildbin-libdir StartedAt: 2025-05-02 13:38:00 -0400 (Fri, 02 May 2025) EndedAt: 2025-05-02 13:39:46 -0400 (Fri, 02 May 2025) EllapsedTime: 106.5 seconds RetCode: 0 Status: OK PackageFile: lute_1.4.0.tgz PackageFileSize: 2.089 MiB