Package: lpNet Version: 2.38.0 Command: /home/biocbuild/R/R/bin/R CMD INSTALL lpNet StartedAt: 2025-01-30 20:11:30 -0000 (Thu, 30 Jan 2025) EndedAt: 2025-01-30 20:11:42 -0000 (Thu, 30 Jan 2025) EllapsedTime: 12.1 seconds RetCode: 0 Status: OK