Package: looking4clusters Version: 1.0.0 Command: /home/biocbuild/bbs-3.22-bioc/R/bin/R CMD INSTALL looking4clusters StartedAt: 2025-10-31 15:34:05 -0400 (Fri, 31 Oct 2025) EndedAt: 2025-10-31 15:34:07 -0400 (Fri, 31 Oct 2025) EllapsedTime: 2.4 seconds RetCode: 0 Status: OK