Package: looking4clusters Version: 1.0.0 Command: /home/biocbuild/bbs-3.22-bioc/R/bin/R CMD build --keep-empty-dirs --no-resave-data --md5 looking4clusters StartedAt: 2025-10-31 18:33:31 -0400 (Fri, 31 Oct 2025) EndedAt: 2025-10-31 18:35:20 -0400 (Fri, 31 Oct 2025) EllapsedTime: 109.1 seconds RetCode: 0 Status: OK PackageFile: looking4clusters_1.0.0.tar.gz PackageFileSize: 1.593 MiB