Package: looking4clusters Version: 1.0.0 Command: /Library/Frameworks/R.framework/Resources/bin/R CMD INSTALL looking4clusters StartedAt: 2025-11-06 15:15:40 -0500 (Thu, 06 Nov 2025) EndedAt: 2025-11-06 15:15:41 -0500 (Thu, 06 Nov 2025) EllapsedTime: 1.5 seconds RetCode: 0 Status: OK