Package: looking4clusters Version: 1.0.0 Command: /Library/Frameworks/R.framework/Resources/bin/R CMD build --keep-empty-dirs --no-resave-data looking4clusters StartedAt: 2025-11-06 16:51:15 -0500 (Thu, 06 Nov 2025) EndedAt: 2025-11-06 16:52:01 -0500 (Thu, 06 Nov 2025) EllapsedTime: 45.6 seconds RetCode: 0 Status: OK PackageFile: looking4clusters_1.0.0.tar.gz PackageFileSize: 1.591 MiB