Package: looking4clusters Version: 1.0.0 Command: rm -rf looking4clusters.buildbin-libdir && mkdir looking4clusters.buildbin-libdir && /Users/biocbuild/BBS/utils/build-universal.sh looking4clusters_1.0.0.tar.gz /Library/Frameworks/R.framework/Resources/bin/R looking4clusters.buildbin-libdir StartedAt: 2025-11-06 23:10:08 -0500 (Thu, 06 Nov 2025) EndedAt: 2025-11-06 23:10:10 -0500 (Thu, 06 Nov 2025) EllapsedTime: 2.1 seconds RetCode: 0 Status: OK PackageFile: looking4clusters_1.0.0.tgz PackageFileSize: 1.139 MiB