Package: looking4clusters Version: 1.0.0 Command: /Library/Frameworks/R.framework/Resources/bin/R CMD INSTALL looking4clusters StartedAt: 2025-11-20 17:24:56 -0500 (Thu, 20 Nov 2025) EndedAt: 2025-11-20 17:24:59 -0500 (Thu, 20 Nov 2025) EllapsedTime: 2.3 seconds RetCode: 0 Status: OK