Package: looking4clusters Version: 1.0.0 Command: /Library/Frameworks/R.framework/Resources/bin/R CMD build --keep-empty-dirs --no-resave-data looking4clusters StartedAt: 2025-11-21 03:57:18 -0500 (Fri, 21 Nov 2025) EndedAt: 2025-11-21 03:58:53 -0500 (Fri, 21 Nov 2025) EllapsedTime: 95.1 seconds RetCode: 0 Status: OK PackageFile: looking4clusters_1.0.0.tar.gz PackageFileSize: 1.591 MiB