Package: logicFS Version: 2.26.0 Command: /home/biocbuild/R/R/bin/R CMD build --keep-empty-dirs --no-resave-data logicFS StartedAt: 2025-01-31 00:34:56 -0000 (Fri, 31 Jan 2025) EndedAt: 2025-01-31 00:35:12 -0000 (Fri, 31 Jan 2025) EllapsedTime: 16.0 seconds RetCode: 0 Status: OK PackageFile: logicFS_2.26.0.tar.gz PackageFileSize: 253.6 KiB