Package: logicFS Version: 2.28.0 Command: /home/biocbuild/bbs-3.21-bioc/R/bin/R CMD INSTALL logicFS StartedAt: 2025-10-15 15:04:49 -0400 (Wed, 15 Oct 2025) EndedAt: 2025-10-15 15:05:00 -0400 (Wed, 15 Oct 2025) EllapsedTime: 10.9 seconds RetCode: 0 Status: OK