Package: logicFS Version: 2.28.0 Command: /Library/Frameworks/R.framework/Resources/bin/R CMD check --install=check:logicFS.install-out.txt --library=/Library/Frameworks/R.framework/Resources/library --no-vignettes --timings logicFS_2.28.0.tar.gz StartedAt: 2025-05-06 05:14:01 -0400 (Tue, 06 May 2025) EndedAt: 2025-05-06 05:16:05 -0400 (Tue, 06 May 2025) EllapsedTime: 124.6 seconds RetCode: 0 Status: OK CheckDir: logicFS.Rcheck Warnings: 0