Package: logicFS Version: 2.28.0 Command: /Library/Frameworks/R.framework/Resources/bin/R CMD build --keep-empty-dirs --no-resave-data logicFS StartedAt: 2025-05-05 20:00:17 -0400 (Mon, 05 May 2025) EndedAt: 2025-05-05 20:00:51 -0400 (Mon, 05 May 2025) EllapsedTime: 33.9 seconds RetCode: 0 Status: OK PackageFile: logicFS_2.28.0.tar.gz PackageFileSize: 259.6 KiB