Package: logicFS Version: 2.28.0 Command: /Library/Frameworks/R.framework/Resources/bin/R CMD check --install=check:logicFS.install-out.txt --library=/Library/Frameworks/R.framework/Resources/library --no-vignettes --timings logicFS_2.28.0.tar.gz StartedAt: 2025-04-21 21:35:01 -0400 (Mon, 21 Apr 2025) EndedAt: 2025-04-21 21:36:09 -0400 (Mon, 21 Apr 2025) EllapsedTime: 67.8 seconds RetCode: 0 Status: OK CheckDir: logicFS.Rcheck Warnings: 0