Package: logicFS Version: 2.28.0 Command: /home/biocbuild/R/R/bin/R CMD INSTALL logicFS StartedAt: 2025-05-05 20:15:49 -0000 (Mon, 05 May 2025) EndedAt: 2025-05-05 20:16:08 -0000 (Mon, 05 May 2025) EllapsedTime: 18.5 seconds RetCode: 0 Status: OK