Package: logicFS Version: 2.28.0 Command: /home/biocbuild/R/R/bin/R CMD build --keep-empty-dirs --no-resave-data logicFS StartedAt: 2025-05-09 01:51:20 -0000 (Fri, 09 May 2025) EndedAt: 2025-05-09 01:51:38 -0000 (Fri, 09 May 2025) EllapsedTime: 18.0 seconds RetCode: 0 Status: OK PackageFile: logicFS_2.28.0.tar.gz PackageFileSize: 253.6 KiB