Package: lmdme Version: 1.50.0 Command: /Library/Frameworks/R.framework/Resources/bin/R CMD check --install=check:lmdme.install-out.txt --library=/Library/Frameworks/R.framework/Resources/library --no-vignettes --timings lmdme_1.50.0.tar.gz StartedAt: 2025-05-07 00:02:06 -0400 (Wed, 07 May 2025) EndedAt: 2025-05-07 00:03:03 -0400 (Wed, 07 May 2025) EllapsedTime: 57.4 seconds RetCode: 0 Status: WARNINGS CheckDir: lmdme.Rcheck Warnings: 1