Package: lmdme Version: 1.50.0 Command: /Library/Frameworks/R.framework/Resources/bin/R CMD build --keep-empty-dirs --no-resave-data lmdme StartedAt: 2025-05-06 02:43:03 -0400 (Tue, 06 May 2025) EndedAt: 2025-05-06 02:43:22 -0400 (Tue, 06 May 2025) EllapsedTime: 18.4 seconds RetCode: 0 Status: OK PackageFile: lmdme_1.50.0.tar.gz PackageFileSize: 608.7 KiB