Package: lisaClust Version: 1.14.4 Command: /home/biocbuild/R/R/bin/R CMD build --keep-empty-dirs --no-resave-data lisaClust StartedAt: 2025-01-31 00:34:46 -0000 (Fri, 31 Jan 2025) EndedAt: 2025-01-31 00:34:47 -0000 (Fri, 31 Jan 2025) EllapsedTime: 1.0 seconds RetCode: 1 Status: ERROR PackageFile: None PackageFileSize: NA