Package: lipidr Version: 2.20.0 Command: /home/biocbuild/R/R/bin/R CMD check --install=check:lipidr.install-out.txt --library=/home/biocbuild/R/R/site-library --no-vignettes --timings lipidr_2.20.0.tar.gz StartedAt: 2025-01-31 07:38:22 -0000 (Fri, 31 Jan 2025) EndedAt: 2025-01-31 07:43:42 -0000 (Fri, 31 Jan 2025) EllapsedTime: 320.5 seconds RetCode: 0 Status: OK CheckDir: lipidr.Rcheck Warnings: 0