Package: lipidr Version: 2.20.0 Command: /home/biocbuild/R/R/bin/R CMD build --keep-empty-dirs --no-resave-data lipidr StartedAt: 2025-01-31 00:34:29 -0000 (Fri, 31 Jan 2025) EndedAt: 2025-01-31 00:35:38 -0000 (Fri, 31 Jan 2025) EllapsedTime: 69.0 seconds RetCode: 0 Status: OK PackageFile: lipidr_2.20.0.tar.gz PackageFileSize: 2.434 MiB