Package: lionessR Version: 1.22.0 Command: E:\biocbuild\bbs-3.21-bioc\R\bin\R.exe CMD INSTALL lionessR StartedAt: 2025-08-14 16:03:56 -0400 (Thu, 14 Aug 2025) EndedAt: 2025-08-14 16:04:04 -0400 (Thu, 14 Aug 2025) EllapsedTime: 7.8 seconds RetCode: 0 Status: OK