Package: lionessR Version: 1.22.0 Command: /Library/Frameworks/R.framework/Resources/bin/R CMD check --install=check:lionessR.install-out.txt --library=/Library/Frameworks/R.framework/Resources/library --no-vignettes --timings lionessR_1.22.0.tar.gz StartedAt: 2025-04-21 20:04:10 -0400 (Mon, 21 Apr 2025) EndedAt: 2025-04-21 20:04:26 -0400 (Mon, 21 Apr 2025) EllapsedTime: 16.2 seconds RetCode: 0 Status: OK CheckDir: lionessR.Rcheck Warnings: 0