Package: linkSet Version: 1.0.0 Command: /home/biocbuild/R/R/bin/R CMD INSTALL linkSet StartedAt: 2025-11-17 21:50:49 -0000 (Mon, 17 Nov 2025) EndedAt: 2025-11-17 21:51:48 -0000 (Mon, 17 Nov 2025) EllapsedTime: 59.4 seconds RetCode: 0 Status: OK