Package: linkSet Version: 1.0.0 Command: /home/biocbuild/R/R/bin/R CMD build --keep-empty-dirs --no-resave-data linkSet StartedAt: 2025-11-18 02:40:44 -0000 (Tue, 18 Nov 2025) EndedAt: 2025-11-18 02:42:27 -0000 (Tue, 18 Nov 2025) EllapsedTime: 103.0 seconds RetCode: 0 Status: OK PackageFile: linkSet_1.0.0.tar.gz PackageFileSize: 4.337 MiB